BEGIN:VCALENDAR
VERSION:2.0
PRODID:-//St. Patrick&#039;s Parish - ECPv5.8.0//NONSGML v1.0//EN
CALSCALE:GREGORIAN
METHOD:PUBLISH
X-WR-CALNAME:St. Patrick&#039;s Parish
X-ORIGINAL-URL:https://paroisseskapparishes.ca/stpatricks
X-WR-CALDESC:Events for St. Patrick&#039;s Parish
BEGIN:VTIMEZONE
TZID:America/Toronto
BEGIN:DAYLIGHT
TZOFFSETFROM:-0500
TZOFFSETTO:-0400
TZNAME:EDT
DTSTART:20270314T070000
END:DAYLIGHT
BEGIN:STANDARD
TZOFFSETFROM:-0400
TZOFFSETTO:-0500
TZNAME:EST
DTSTART:20271107T060000
END:STANDARD
END:VTIMEZONE
BEGIN:VEVENT
DTSTART;TZID=America/Toronto:20270206T163000
DTEND;TZID=America/Toronto:20270206T173000
DTSTAMP:20260420T185436
CREATED:20210430T141232Z
LAST-MODIFIED:20210430T141232Z
UID:2030-1801931400-1801935000@paroisseskapparishes.ca
SUMMARY:Saturday Mass
DESCRIPTION:
URL:https://paroisseskapparishes.ca/stpatricks/event/sunday-mass-11/2027-02-06/
END:VEVENT
BEGIN:VEVENT
DTSTART;TZID=America/Toronto:20270207T093000
DTEND;TZID=America/Toronto:20270207T103000
DTSTAMP:20260420T185436
CREATED:20210430T141116Z
LAST-MODIFIED:20210430T141116Z
UID:2032-1801992600-1801996200@paroisseskapparishes.ca
SUMMARY:Sunday Mass
DESCRIPTION:
URL:https://paroisseskapparishes.ca/stpatricks/event/sunday-mass-10/2027-02-07/
END:VEVENT
BEGIN:VEVENT
DTSTART;TZID=America/Toronto:20270213T163000
DTEND;TZID=America/Toronto:20270213T173000
DTSTAMP:20260420T185436
CREATED:20210430T141232Z
LAST-MODIFIED:20210430T141232Z
UID:2033-1802536200-1802539800@paroisseskapparishes.ca
SUMMARY:Saturday Mass
DESCRIPTION:
URL:https://paroisseskapparishes.ca/stpatricks/event/sunday-mass-11/2027-02-13/
END:VEVENT
BEGIN:VEVENT
DTSTART;TZID=America/Toronto:20270214T093000
DTEND;TZID=America/Toronto:20270214T103000
DTSTAMP:20260420T185436
CREATED:20210430T141116Z
LAST-MODIFIED:20210430T141116Z
UID:2034-1802597400-1802601000@paroisseskapparishes.ca
SUMMARY:Sunday Mass
DESCRIPTION:
URL:https://paroisseskapparishes.ca/stpatricks/event/sunday-mass-10/2027-02-14/
END:VEVENT
BEGIN:VEVENT
DTSTART;TZID=America/Toronto:20270220T163000
DTEND;TZID=America/Toronto:20270220T173000
DTSTAMP:20260420T185436
CREATED:20210430T141232Z
LAST-MODIFIED:20210430T141232Z
UID:2035-1803141000-1803144600@paroisseskapparishes.ca
SUMMARY:Saturday Mass
DESCRIPTION:
URL:https://paroisseskapparishes.ca/stpatricks/event/sunday-mass-11/2027-02-20/
END:VEVENT
BEGIN:VEVENT
DTSTART;TZID=America/Toronto:20270221T093000
DTEND;TZID=America/Toronto:20270221T103000
DTSTAMP:20260420T185436
CREATED:20210430T141116Z
LAST-MODIFIED:20210430T141116Z
UID:2036-1803202200-1803205800@paroisseskapparishes.ca
SUMMARY:Sunday Mass
DESCRIPTION:
URL:https://paroisseskapparishes.ca/stpatricks/event/sunday-mass-10/2027-02-21/
END:VEVENT
BEGIN:VEVENT
DTSTART;TZID=America/Toronto:20270227T163000
DTEND;TZID=America/Toronto:20270227T173000
DTSTAMP:20260420T185436
CREATED:20210430T141232Z
LAST-MODIFIED:20210430T141232Z
UID:2037-1803745800-1803749400@paroisseskapparishes.ca
SUMMARY:Saturday Mass
DESCRIPTION:
URL:https://paroisseskapparishes.ca/stpatricks/event/sunday-mass-11/2027-02-27/
END:VEVENT
BEGIN:VEVENT
DTSTART;TZID=America/Toronto:20270228T093000
DTEND;TZID=America/Toronto:20270228T103000
DTSTAMP:20260420T185436
CREATED:20210430T141116Z
LAST-MODIFIED:20210430T141116Z
UID:2038-1803807000-1803810600@paroisseskapparishes.ca
SUMMARY:Sunday Mass
DESCRIPTION:
URL:https://paroisseskapparishes.ca/stpatricks/event/sunday-mass-10/2027-02-28/
END:VEVENT
END:VCALENDAR