BEGIN:VCALENDAR
VERSION:2.0
PRODID:-//St. Patrick&#039;s Parish - ECPv5.8.0//NONSGML v1.0//EN
CALSCALE:GREGORIAN
METHOD:PUBLISH
X-WR-CALNAME:St. Patrick&#039;s Parish
X-ORIGINAL-URL:https://paroisseskapparishes.ca/stpatricks
X-WR-CALDESC:Events for St. Patrick&#039;s Parish
BEGIN:VTIMEZONE
TZID:America/Toronto
BEGIN:DAYLIGHT
TZOFFSETFROM:-0500
TZOFFSETTO:-0400
TZNAME:EDT
DTSTART:20270314T070000
END:DAYLIGHT
BEGIN:STANDARD
TZOFFSETFROM:-0400
TZOFFSETTO:-0500
TZNAME:EST
DTSTART:20271107T060000
END:STANDARD
END:VTIMEZONE
BEGIN:VEVENT
DTSTART;TZID=America/Toronto:20270501T163000
DTEND;TZID=America/Toronto:20270501T173000
DTSTAMP:20260420T015540
CREATED:20210430T141232Z
LAST-MODIFIED:20210430T141232Z
UID:2059-1809189000-1809192600@paroisseskapparishes.ca
SUMMARY:Saturday Mass
DESCRIPTION:
URL:https://paroisseskapparishes.ca/stpatricks/event/sunday-mass-11/2027-05-01/
END:VEVENT
BEGIN:VEVENT
DTSTART;TZID=America/Toronto:20270502T093000
DTEND;TZID=America/Toronto:20270502T103000
DTSTAMP:20260420T015540
CREATED:20210430T141116Z
LAST-MODIFIED:20210430T141116Z
UID:2060-1809250200-1809253800@paroisseskapparishes.ca
SUMMARY:Sunday Mass
DESCRIPTION:
URL:https://paroisseskapparishes.ca/stpatricks/event/sunday-mass-10/2027-05-02/
END:VEVENT
BEGIN:VEVENT
DTSTART;TZID=America/Toronto:20270508T163000
DTEND;TZID=America/Toronto:20270508T173000
DTSTAMP:20260420T015540
CREATED:20210430T141232Z
LAST-MODIFIED:20210430T141232Z
UID:2061-1809793800-1809797400@paroisseskapparishes.ca
SUMMARY:Saturday Mass
DESCRIPTION:
URL:https://paroisseskapparishes.ca/stpatricks/event/sunday-mass-11/2027-05-08/
END:VEVENT
BEGIN:VEVENT
DTSTART;TZID=America/Toronto:20270509T093000
DTEND;TZID=America/Toronto:20270509T103000
DTSTAMP:20260420T015540
CREATED:20210430T141116Z
LAST-MODIFIED:20210430T141116Z
UID:2062-1809855000-1809858600@paroisseskapparishes.ca
SUMMARY:Sunday Mass
DESCRIPTION:
URL:https://paroisseskapparishes.ca/stpatricks/event/sunday-mass-10/2027-05-09/
END:VEVENT
BEGIN:VEVENT
DTSTART;TZID=America/Toronto:20270515T163000
DTEND;TZID=America/Toronto:20270515T173000
DTSTAMP:20260420T015540
CREATED:20210430T141232Z
LAST-MODIFIED:20210430T141232Z
UID:2063-1810398600-1810402200@paroisseskapparishes.ca
SUMMARY:Saturday Mass
DESCRIPTION:
URL:https://paroisseskapparishes.ca/stpatricks/event/sunday-mass-11/2027-05-15/
END:VEVENT
BEGIN:VEVENT
DTSTART;TZID=America/Toronto:20270516T093000
DTEND;TZID=America/Toronto:20270516T103000
DTSTAMP:20260420T015540
CREATED:20210430T141116Z
LAST-MODIFIED:20210430T141116Z
UID:2064-1810459800-1810463400@paroisseskapparishes.ca
SUMMARY:Sunday Mass
DESCRIPTION:
URL:https://paroisseskapparishes.ca/stpatricks/event/sunday-mass-10/2027-05-16/
END:VEVENT
BEGIN:VEVENT
DTSTART;TZID=America/Toronto:20270522T163000
DTEND;TZID=America/Toronto:20270522T173000
DTSTAMP:20260420T015540
CREATED:20210430T141232Z
LAST-MODIFIED:20210430T141232Z
UID:2065-1811003400-1811007000@paroisseskapparishes.ca
SUMMARY:Saturday Mass
DESCRIPTION:
URL:https://paroisseskapparishes.ca/stpatricks/event/sunday-mass-11/2027-05-22/
END:VEVENT
BEGIN:VEVENT
DTSTART;TZID=America/Toronto:20270523T093000
DTEND;TZID=America/Toronto:20270523T103000
DTSTAMP:20260420T015540
CREATED:20210430T141116Z
LAST-MODIFIED:20210430T141116Z
UID:2066-1811064600-1811068200@paroisseskapparishes.ca
SUMMARY:Sunday Mass
DESCRIPTION:
URL:https://paroisseskapparishes.ca/stpatricks/event/sunday-mass-10/2027-05-23/
END:VEVENT
BEGIN:VEVENT
DTSTART;TZID=America/Toronto:20270529T163000
DTEND;TZID=America/Toronto:20270529T173000
DTSTAMP:20260420T015540
CREATED:20210430T141232Z
LAST-MODIFIED:20210430T141232Z
UID:2067-1811608200-1811611800@paroisseskapparishes.ca
SUMMARY:Saturday Mass
DESCRIPTION:
URL:https://paroisseskapparishes.ca/stpatricks/event/sunday-mass-11/2027-05-29/
END:VEVENT
BEGIN:VEVENT
DTSTART;TZID=America/Toronto:20270530T093000
DTEND;TZID=America/Toronto:20270530T103000
DTSTAMP:20260420T015540
CREATED:20210430T141116Z
LAST-MODIFIED:20210430T141116Z
UID:2068-1811669400-1811673000@paroisseskapparishes.ca
SUMMARY:Sunday Mass
DESCRIPTION:
URL:https://paroisseskapparishes.ca/stpatricks/event/sunday-mass-10/2027-05-30/
END:VEVENT
BEGIN:VEVENT
DTSTART;TZID=America/Toronto:20270605T163000
DTEND;TZID=America/Toronto:20270605T173000
DTSTAMP:20260420T015540
CREATED:20210430T141232Z
LAST-MODIFIED:20210430T141232Z
UID:2069-1812213000-1812216600@paroisseskapparishes.ca
SUMMARY:Saturday Mass
DESCRIPTION:
URL:https://paroisseskapparishes.ca/stpatricks/event/sunday-mass-11/2027-06-05/
END:VEVENT
BEGIN:VEVENT
DTSTART;TZID=America/Toronto:20270606T093000
DTEND;TZID=America/Toronto:20270606T103000
DTSTAMP:20260420T015540
CREATED:20210430T141116Z
LAST-MODIFIED:20210430T141116Z
UID:2070-1812274200-1812277800@paroisseskapparishes.ca
SUMMARY:Sunday Mass
DESCRIPTION:
URL:https://paroisseskapparishes.ca/stpatricks/event/sunday-mass-10/2027-06-06/
END:VEVENT
END:VCALENDAR