BEGIN:VCALENDAR
VERSION:2.0
PRODID:-//St. Patrick&#039;s Parish - ECPv5.8.0//NONSGML v1.0//EN
CALSCALE:GREGORIAN
METHOD:PUBLISH
X-WR-CALNAME:St. Patrick&#039;s Parish
X-ORIGINAL-URL:https://paroisseskapparishes.ca/stpatricks
X-WR-CALDESC:Events for St. Patrick&#039;s Parish
BEGIN:VTIMEZONE
TZID:America/Toronto
BEGIN:DAYLIGHT
TZOFFSETFROM:-0500
TZOFFSETTO:-0400
TZNAME:EDT
DTSTART:20260308T070000
END:DAYLIGHT
BEGIN:STANDARD
TZOFFSETFROM:-0400
TZOFFSETTO:-0500
TZNAME:EST
DTSTART:20261101T060000
END:STANDARD
END:VTIMEZONE
BEGIN:VEVENT
DTSTART;TZID=America/Toronto:20260117T163000
DTEND;TZID=America/Toronto:20260117T173000
DTSTAMP:20260419T211049
CREATED:20210430T141232Z
LAST-MODIFIED:20210430T141232Z
UID:1920-1768667400-1768671000@paroisseskapparishes.ca
SUMMARY:Saturday Mass
DESCRIPTION:
URL:https://paroisseskapparishes.ca/stpatricks/event/sunday-mass-11/2026-01-17/
END:VEVENT
BEGIN:VEVENT
DTSTART;TZID=America/Toronto:20260118T093000
DTEND;TZID=America/Toronto:20260118T103000
DTSTAMP:20260419T211049
CREATED:20210430T141116Z
LAST-MODIFIED:20210430T141116Z
UID:1921-1768728600-1768732200@paroisseskapparishes.ca
SUMMARY:Sunday Mass
DESCRIPTION:
URL:https://paroisseskapparishes.ca/stpatricks/event/sunday-mass-10/2026-01-18/
END:VEVENT
BEGIN:VEVENT
DTSTART;TZID=America/Toronto:20260124T163000
DTEND;TZID=America/Toronto:20260124T173000
DTSTAMP:20260419T211049
CREATED:20210430T141232Z
LAST-MODIFIED:20210430T141232Z
UID:1922-1769272200-1769275800@paroisseskapparishes.ca
SUMMARY:Saturday Mass
DESCRIPTION:
URL:https://paroisseskapparishes.ca/stpatricks/event/sunday-mass-11/2026-01-24/
END:VEVENT
BEGIN:VEVENT
DTSTART;TZID=America/Toronto:20260125T093000
DTEND;TZID=America/Toronto:20260125T103000
DTSTAMP:20260419T211049
CREATED:20210430T141116Z
LAST-MODIFIED:20210430T141116Z
UID:1923-1769333400-1769337000@paroisseskapparishes.ca
SUMMARY:Sunday Mass
DESCRIPTION:
URL:https://paroisseskapparishes.ca/stpatricks/event/sunday-mass-10/2026-01-25/
END:VEVENT
BEGIN:VEVENT
DTSTART;TZID=America/Toronto:20260131T163000
DTEND;TZID=America/Toronto:20260131T173000
DTSTAMP:20260419T211049
CREATED:20210430T141232Z
LAST-MODIFIED:20210430T141232Z
UID:1924-1769877000-1769880600@paroisseskapparishes.ca
SUMMARY:Saturday Mass
DESCRIPTION:
URL:https://paroisseskapparishes.ca/stpatricks/event/sunday-mass-11/2026-01-31/
END:VEVENT
BEGIN:VEVENT
DTSTART;TZID=America/Toronto:20260201T093000
DTEND;TZID=America/Toronto:20260201T103000
DTSTAMP:20260419T211049
CREATED:20210430T141116Z
LAST-MODIFIED:20210430T141116Z
UID:1925-1769938200-1769941800@paroisseskapparishes.ca
SUMMARY:Sunday Mass
DESCRIPTION:
URL:https://paroisseskapparishes.ca/stpatricks/event/sunday-mass-10/2026-02-01/
END:VEVENT
BEGIN:VEVENT
DTSTART;TZID=America/Toronto:20260207T163000
DTEND;TZID=America/Toronto:20260207T173000
DTSTAMP:20260419T211049
CREATED:20210430T141232Z
LAST-MODIFIED:20210430T141232Z
UID:1926-1770481800-1770485400@paroisseskapparishes.ca
SUMMARY:Saturday Mass
DESCRIPTION:
URL:https://paroisseskapparishes.ca/stpatricks/event/sunday-mass-11/2026-02-07/
END:VEVENT
BEGIN:VEVENT
DTSTART;TZID=America/Toronto:20260208T093000
DTEND;TZID=America/Toronto:20260208T103000
DTSTAMP:20260419T211049
CREATED:20210430T141116Z
LAST-MODIFIED:20210430T141116Z
UID:1927-1770543000-1770546600@paroisseskapparishes.ca
SUMMARY:Sunday Mass
DESCRIPTION:
URL:https://paroisseskapparishes.ca/stpatricks/event/sunday-mass-10/2026-02-08/
END:VEVENT
BEGIN:VEVENT
DTSTART;TZID=America/Toronto:20260214T163000
DTEND;TZID=America/Toronto:20260214T173000
DTSTAMP:20260419T211049
CREATED:20210430T141232Z
LAST-MODIFIED:20210430T141232Z
UID:1928-1771086600-1771090200@paroisseskapparishes.ca
SUMMARY:Saturday Mass
DESCRIPTION:
URL:https://paroisseskapparishes.ca/stpatricks/event/sunday-mass-11/2026-02-14/
END:VEVENT
BEGIN:VEVENT
DTSTART;TZID=America/Toronto:20260215T093000
DTEND;TZID=America/Toronto:20260215T103000
DTSTAMP:20260419T211049
CREATED:20210430T141116Z
LAST-MODIFIED:20210430T141116Z
UID:1929-1771147800-1771151400@paroisseskapparishes.ca
SUMMARY:Sunday Mass
DESCRIPTION:
URL:https://paroisseskapparishes.ca/stpatricks/event/sunday-mass-10/2026-02-15/
END:VEVENT
BEGIN:VEVENT
DTSTART;TZID=America/Toronto:20260221T163000
DTEND;TZID=America/Toronto:20260221T173000
DTSTAMP:20260419T211049
CREATED:20210430T141232Z
LAST-MODIFIED:20210430T141232Z
UID:1930-1771691400-1771695000@paroisseskapparishes.ca
SUMMARY:Saturday Mass
DESCRIPTION:
URL:https://paroisseskapparishes.ca/stpatricks/event/sunday-mass-11/2026-02-21/
END:VEVENT
BEGIN:VEVENT
DTSTART;TZID=America/Toronto:20260222T093000
DTEND;TZID=America/Toronto:20260222T103000
DTSTAMP:20260419T211049
CREATED:20210430T141116Z
LAST-MODIFIED:20210430T141116Z
UID:1931-1771752600-1771756200@paroisseskapparishes.ca
SUMMARY:Sunday Mass
DESCRIPTION:
URL:https://paroisseskapparishes.ca/stpatricks/event/sunday-mass-10/2026-02-22/
END:VEVENT
BEGIN:VEVENT
DTSTART;TZID=America/Toronto:20260228T163000
DTEND;TZID=America/Toronto:20260228T173000
DTSTAMP:20260419T211049
CREATED:20210430T141232Z
LAST-MODIFIED:20210430T141232Z
UID:1932-1772296200-1772299800@paroisseskapparishes.ca
SUMMARY:Saturday Mass
DESCRIPTION:
URL:https://paroisseskapparishes.ca/stpatricks/event/sunday-mass-11/2026-02-28/
END:VEVENT
BEGIN:VEVENT
DTSTART;TZID=America/Toronto:20260301T093000
DTEND;TZID=America/Toronto:20260301T103000
DTSTAMP:20260419T211049
CREATED:20210430T141116Z
LAST-MODIFIED:20210430T141116Z
UID:1933-1772357400-1772361000@paroisseskapparishes.ca
SUMMARY:Sunday Mass
DESCRIPTION:
URL:https://paroisseskapparishes.ca/stpatricks/event/sunday-mass-10/2026-03-01/
END:VEVENT
BEGIN:VEVENT
DTSTART;TZID=America/Toronto:20260307T163000
DTEND;TZID=America/Toronto:20260307T173000
DTSTAMP:20260419T211049
CREATED:20210430T141232Z
LAST-MODIFIED:20210430T141232Z
UID:1934-1772901000-1772904600@paroisseskapparishes.ca
SUMMARY:Saturday Mass
DESCRIPTION:
URL:https://paroisseskapparishes.ca/stpatricks/event/sunday-mass-11/2026-03-07/
END:VEVENT
BEGIN:VEVENT
DTSTART;TZID=America/Toronto:20260308T093000
DTEND;TZID=America/Toronto:20260308T103000
DTSTAMP:20260419T211049
CREATED:20210430T141116Z
LAST-MODIFIED:20210430T141116Z
UID:1935-1772962200-1772965800@paroisseskapparishes.ca
SUMMARY:Sunday Mass
DESCRIPTION:
URL:https://paroisseskapparishes.ca/stpatricks/event/sunday-mass-10/2026-03-08/
END:VEVENT
BEGIN:VEVENT
DTSTART;TZID=America/Toronto:20260314T163000
DTEND;TZID=America/Toronto:20260314T173000
DTSTAMP:20260419T211049
CREATED:20210430T141232Z
LAST-MODIFIED:20210430T141232Z
UID:1936-1773505800-1773509400@paroisseskapparishes.ca
SUMMARY:Saturday Mass
DESCRIPTION:
URL:https://paroisseskapparishes.ca/stpatricks/event/sunday-mass-11/2026-03-14/
END:VEVENT
BEGIN:VEVENT
DTSTART;TZID=America/Toronto:20260315T093000
DTEND;TZID=America/Toronto:20260315T103000
DTSTAMP:20260419T211049
CREATED:20210430T141116Z
LAST-MODIFIED:20210430T141116Z
UID:1937-1773567000-1773570600@paroisseskapparishes.ca
SUMMARY:Sunday Mass
DESCRIPTION:
URL:https://paroisseskapparishes.ca/stpatricks/event/sunday-mass-10/2026-03-15/
END:VEVENT
BEGIN:VEVENT
DTSTART;TZID=America/Toronto:20260321T163000
DTEND;TZID=America/Toronto:20260321T173000
DTSTAMP:20260419T211049
CREATED:20210430T141232Z
LAST-MODIFIED:20210430T141232Z
UID:1938-1774110600-1774114200@paroisseskapparishes.ca
SUMMARY:Saturday Mass
DESCRIPTION:
URL:https://paroisseskapparishes.ca/stpatricks/event/sunday-mass-11/2026-03-21/
END:VEVENT
BEGIN:VEVENT
DTSTART;TZID=America/Toronto:20260322T093000
DTEND;TZID=America/Toronto:20260322T103000
DTSTAMP:20260419T211049
CREATED:20210430T141116Z
LAST-MODIFIED:20210430T141116Z
UID:1939-1774171800-1774175400@paroisseskapparishes.ca
SUMMARY:Sunday Mass
DESCRIPTION:
URL:https://paroisseskapparishes.ca/stpatricks/event/sunday-mass-10/2026-03-22/
END:VEVENT
BEGIN:VEVENT
DTSTART;TZID=America/Toronto:20260328T163000
DTEND;TZID=America/Toronto:20260328T173000
DTSTAMP:20260419T211049
CREATED:20210430T141232Z
LAST-MODIFIED:20210430T141232Z
UID:1940-1774715400-1774719000@paroisseskapparishes.ca
SUMMARY:Saturday Mass
DESCRIPTION:
URL:https://paroisseskapparishes.ca/stpatricks/event/sunday-mass-11/2026-03-28/
END:VEVENT
BEGIN:VEVENT
DTSTART;TZID=America/Toronto:20260329T093000
DTEND;TZID=America/Toronto:20260329T103000
DTSTAMP:20260419T211049
CREATED:20210430T141116Z
LAST-MODIFIED:20210430T141116Z
UID:1941-1774776600-1774780200@paroisseskapparishes.ca
SUMMARY:Sunday Mass
DESCRIPTION:
URL:https://paroisseskapparishes.ca/stpatricks/event/sunday-mass-10/2026-03-29/
END:VEVENT
BEGIN:VEVENT
DTSTART;TZID=America/Toronto:20260404T163000
DTEND;TZID=America/Toronto:20260404T173000
DTSTAMP:20260419T211049
CREATED:20210430T141232Z
LAST-MODIFIED:20210430T141232Z
UID:1942-1775320200-1775323800@paroisseskapparishes.ca
SUMMARY:Saturday Mass
DESCRIPTION:
URL:https://paroisseskapparishes.ca/stpatricks/event/sunday-mass-11/2026-04-04/
END:VEVENT
BEGIN:VEVENT
DTSTART;TZID=America/Toronto:20260405T093000
DTEND;TZID=America/Toronto:20260405T103000
DTSTAMP:20260419T211049
CREATED:20210430T141116Z
LAST-MODIFIED:20210430T141116Z
UID:1943-1775381400-1775385000@paroisseskapparishes.ca
SUMMARY:Sunday Mass
DESCRIPTION:
URL:https://paroisseskapparishes.ca/stpatricks/event/sunday-mass-10/2026-04-05/
END:VEVENT
BEGIN:VEVENT
DTSTART;TZID=America/Toronto:20260411T163000
DTEND;TZID=America/Toronto:20260411T173000
DTSTAMP:20260419T211049
CREATED:20210430T141232Z
LAST-MODIFIED:20210430T141232Z
UID:1944-1775925000-1775928600@paroisseskapparishes.ca
SUMMARY:Saturday Mass
DESCRIPTION:
URL:https://paroisseskapparishes.ca/stpatricks/event/sunday-mass-11/2026-04-11/
END:VEVENT
BEGIN:VEVENT
DTSTART;TZID=America/Toronto:20260412T093000
DTEND;TZID=America/Toronto:20260412T103000
DTSTAMP:20260419T211049
CREATED:20210430T141116Z
LAST-MODIFIED:20210430T141116Z
UID:1945-1775986200-1775989800@paroisseskapparishes.ca
SUMMARY:Sunday Mass
DESCRIPTION:
URL:https://paroisseskapparishes.ca/stpatricks/event/sunday-mass-10/2026-04-12/
END:VEVENT
BEGIN:VEVENT
DTSTART;TZID=America/Toronto:20260418T163000
DTEND;TZID=America/Toronto:20260418T173000
DTSTAMP:20260419T211049
CREATED:20210430T141232Z
LAST-MODIFIED:20210430T141232Z
UID:1946-1776529800-1776533400@paroisseskapparishes.ca
SUMMARY:Saturday Mass
DESCRIPTION:
URL:https://paroisseskapparishes.ca/stpatricks/event/sunday-mass-11/2026-04-18/
END:VEVENT
BEGIN:VEVENT
DTSTART;TZID=America/Toronto:20260419T093000
DTEND;TZID=America/Toronto:20260419T103000
DTSTAMP:20260419T211049
CREATED:20210430T141116Z
LAST-MODIFIED:20210430T141116Z
UID:1947-1776591000-1776594600@paroisseskapparishes.ca
SUMMARY:Sunday Mass
DESCRIPTION:
URL:https://paroisseskapparishes.ca/stpatricks/event/sunday-mass-10/2026-04-19/
END:VEVENT
BEGIN:VEVENT
DTSTART;TZID=America/Toronto:20260425T163000
DTEND;TZID=America/Toronto:20260425T173000
DTSTAMP:20260419T211049
CREATED:20210430T141232Z
LAST-MODIFIED:20210430T141232Z
UID:1948-1777134600-1777138200@paroisseskapparishes.ca
SUMMARY:Saturday Mass
DESCRIPTION:
URL:https://paroisseskapparishes.ca/stpatricks/event/sunday-mass-11/2026-04-25/
END:VEVENT
BEGIN:VEVENT
DTSTART;TZID=America/Toronto:20260426T093000
DTEND;TZID=America/Toronto:20260426T103000
DTSTAMP:20260419T211049
CREATED:20210430T141116Z
LAST-MODIFIED:20210430T141116Z
UID:1949-1777195800-1777199400@paroisseskapparishes.ca
SUMMARY:Sunday Mass
DESCRIPTION:
URL:https://paroisseskapparishes.ca/stpatricks/event/sunday-mass-10/2026-04-26/
END:VEVENT
END:VCALENDAR