BEGIN:VCALENDAR
VERSION:2.0
PRODID:-//St. Patrick&#039;s Parish - ECPv5.8.0//NONSGML v1.0//EN
CALSCALE:GREGORIAN
METHOD:PUBLISH
X-WR-CALNAME:St. Patrick&#039;s Parish
X-ORIGINAL-URL:https://paroisseskapparishes.ca/stpatricks
X-WR-CALDESC:Events for St. Patrick&#039;s Parish
BEGIN:VTIMEZONE
TZID:America/Toronto
BEGIN:DAYLIGHT
TZOFFSETFROM:-0500
TZOFFSETTO:-0400
TZNAME:EDT
DTSTART:20250309T070000
END:DAYLIGHT
BEGIN:STANDARD
TZOFFSETFROM:-0400
TZOFFSETTO:-0500
TZNAME:EST
DTSTART:20251102T060000
END:STANDARD
END:VTIMEZONE
BEGIN:VEVENT
DTSTART;TZID=America/Toronto:20251026T093000
DTEND;TZID=America/Toronto:20251026T103000
DTSTAMP:20260420T031954
CREATED:20210430T141116Z
LAST-MODIFIED:20210430T141116Z
UID:1895-1761471000-1761474600@paroisseskapparishes.ca
SUMMARY:Sunday Mass
DESCRIPTION:
URL:https://paroisseskapparishes.ca/stpatricks/event/sunday-mass-10/2025-10-26/
END:VEVENT
BEGIN:VEVENT
DTSTART;TZID=America/Toronto:20251025T163000
DTEND;TZID=America/Toronto:20251025T173000
DTSTAMP:20260420T031954
CREATED:20210430T141232Z
LAST-MODIFIED:20210430T141232Z
UID:1894-1761409800-1761413400@paroisseskapparishes.ca
SUMMARY:Saturday Mass
DESCRIPTION:
URL:https://paroisseskapparishes.ca/stpatricks/event/sunday-mass-11/2025-10-25/
END:VEVENT
BEGIN:VEVENT
DTSTART;TZID=America/Toronto:20251019T093000
DTEND;TZID=America/Toronto:20251019T103000
DTSTAMP:20260420T031954
CREATED:20210430T141116Z
LAST-MODIFIED:20210430T141116Z
UID:1893-1760866200-1760869800@paroisseskapparishes.ca
SUMMARY:Sunday Mass
DESCRIPTION:
URL:https://paroisseskapparishes.ca/stpatricks/event/sunday-mass-10/2025-10-19/
END:VEVENT
BEGIN:VEVENT
DTSTART;TZID=America/Toronto:20251018T163000
DTEND;TZID=America/Toronto:20251018T173000
DTSTAMP:20260420T031954
CREATED:20210430T141232Z
LAST-MODIFIED:20210430T141232Z
UID:1892-1760805000-1760808600@paroisseskapparishes.ca
SUMMARY:Saturday Mass
DESCRIPTION:
URL:https://paroisseskapparishes.ca/stpatricks/event/sunday-mass-11/2025-10-18/
END:VEVENT
BEGIN:VEVENT
DTSTART;TZID=America/Toronto:20251012T093000
DTEND;TZID=America/Toronto:20251012T103000
DTSTAMP:20260420T031954
CREATED:20210430T141116Z
LAST-MODIFIED:20210430T141116Z
UID:1891-1760261400-1760265000@paroisseskapparishes.ca
SUMMARY:Sunday Mass
DESCRIPTION:
URL:https://paroisseskapparishes.ca/stpatricks/event/sunday-mass-10/2025-10-12/
END:VEVENT
BEGIN:VEVENT
DTSTART;TZID=America/Toronto:20251011T163000
DTEND;TZID=America/Toronto:20251011T173000
DTSTAMP:20260420T031954
CREATED:20210430T141232Z
LAST-MODIFIED:20210430T141232Z
UID:1890-1760200200-1760203800@paroisseskapparishes.ca
SUMMARY:Saturday Mass
DESCRIPTION:
URL:https://paroisseskapparishes.ca/stpatricks/event/sunday-mass-11/2025-10-11/
END:VEVENT
BEGIN:VEVENT
DTSTART;TZID=America/Toronto:20251005T093000
DTEND;TZID=America/Toronto:20251005T103000
DTSTAMP:20260420T031954
CREATED:20210430T141116Z
LAST-MODIFIED:20210430T141116Z
UID:1889-1759656600-1759660200@paroisseskapparishes.ca
SUMMARY:Sunday Mass
DESCRIPTION:
URL:https://paroisseskapparishes.ca/stpatricks/event/sunday-mass-10/2025-10-05/
END:VEVENT
BEGIN:VEVENT
DTSTART;TZID=America/Toronto:20251004T163000
DTEND;TZID=America/Toronto:20251004T173000
DTSTAMP:20260420T031954
CREATED:20210430T141232Z
LAST-MODIFIED:20210430T141232Z
UID:1888-1759595400-1759599000@paroisseskapparishes.ca
SUMMARY:Saturday Mass
DESCRIPTION:
URL:https://paroisseskapparishes.ca/stpatricks/event/sunday-mass-11/2025-10-04/
END:VEVENT
BEGIN:VEVENT
DTSTART;TZID=America/Toronto:20250928T093000
DTEND;TZID=America/Toronto:20250928T103000
DTSTAMP:20260420T031954
CREATED:20210430T141116Z
LAST-MODIFIED:20210430T141116Z
UID:1887-1759051800-1759055400@paroisseskapparishes.ca
SUMMARY:Sunday Mass
DESCRIPTION:
URL:https://paroisseskapparishes.ca/stpatricks/event/sunday-mass-10/2025-09-28/
END:VEVENT
BEGIN:VEVENT
DTSTART;TZID=America/Toronto:20250927T163000
DTEND;TZID=America/Toronto:20250927T173000
DTSTAMP:20260420T031954
CREATED:20210430T141232Z
LAST-MODIFIED:20210430T141232Z
UID:1886-1758990600-1758994200@paroisseskapparishes.ca
SUMMARY:Saturday Mass
DESCRIPTION:
URL:https://paroisseskapparishes.ca/stpatricks/event/sunday-mass-11/2025-09-27/
END:VEVENT
BEGIN:VEVENT
DTSTART;TZID=America/Toronto:20250921T093000
DTEND;TZID=America/Toronto:20250921T103000
DTSTAMP:20260420T031954
CREATED:20210430T141116Z
LAST-MODIFIED:20210430T141116Z
UID:1885-1758447000-1758450600@paroisseskapparishes.ca
SUMMARY:Sunday Mass
DESCRIPTION:
URL:https://paroisseskapparishes.ca/stpatricks/event/sunday-mass-10/2025-09-21/
END:VEVENT
BEGIN:VEVENT
DTSTART;TZID=America/Toronto:20250920T163000
DTEND;TZID=America/Toronto:20250920T173000
DTSTAMP:20260420T031954
CREATED:20210430T141232Z
LAST-MODIFIED:20210430T141232Z
UID:1884-1758385800-1758389400@paroisseskapparishes.ca
SUMMARY:Saturday Mass
DESCRIPTION:
URL:https://paroisseskapparishes.ca/stpatricks/event/sunday-mass-11/2025-09-20/
END:VEVENT
BEGIN:VEVENT
DTSTART;TZID=America/Toronto:20250914T093000
DTEND;TZID=America/Toronto:20250914T103000
DTSTAMP:20260420T031954
CREATED:20210430T141116Z
LAST-MODIFIED:20210430T141116Z
UID:1883-1757842200-1757845800@paroisseskapparishes.ca
SUMMARY:Sunday Mass
DESCRIPTION:
URL:https://paroisseskapparishes.ca/stpatricks/event/sunday-mass-10/2025-09-14/
END:VEVENT
BEGIN:VEVENT
DTSTART;TZID=America/Toronto:20250913T163000
DTEND;TZID=America/Toronto:20250913T173000
DTSTAMP:20260420T031954
CREATED:20210430T141232Z
LAST-MODIFIED:20210430T141232Z
UID:1882-1757781000-1757784600@paroisseskapparishes.ca
SUMMARY:Saturday Mass
DESCRIPTION:
URL:https://paroisseskapparishes.ca/stpatricks/event/sunday-mass-11/2025-09-13/
END:VEVENT
BEGIN:VEVENT
DTSTART;TZID=America/Toronto:20250907T093000
DTEND;TZID=America/Toronto:20250907T103000
DTSTAMP:20260420T031954
CREATED:20210430T141116Z
LAST-MODIFIED:20210430T141116Z
UID:1881-1757237400-1757241000@paroisseskapparishes.ca
SUMMARY:Sunday Mass
DESCRIPTION:
URL:https://paroisseskapparishes.ca/stpatricks/event/sunday-mass-10/2025-09-07/
END:VEVENT
BEGIN:VEVENT
DTSTART;TZID=America/Toronto:20250906T163000
DTEND;TZID=America/Toronto:20250906T173000
DTSTAMP:20260420T031954
CREATED:20210430T141232Z
LAST-MODIFIED:20210430T141232Z
UID:1880-1757176200-1757179800@paroisseskapparishes.ca
SUMMARY:Saturday Mass
DESCRIPTION:
URL:https://paroisseskapparishes.ca/stpatricks/event/sunday-mass-11/2025-09-06/
END:VEVENT
BEGIN:VEVENT
DTSTART;TZID=America/Toronto:20250831T093000
DTEND;TZID=America/Toronto:20250831T103000
DTSTAMP:20260420T031954
CREATED:20210430T141116Z
LAST-MODIFIED:20210430T141116Z
UID:1879-1756632600-1756636200@paroisseskapparishes.ca
SUMMARY:Sunday Mass
DESCRIPTION:
URL:https://paroisseskapparishes.ca/stpatricks/event/sunday-mass-10/2025-08-31/
END:VEVENT
BEGIN:VEVENT
DTSTART;TZID=America/Toronto:20250830T163000
DTEND;TZID=America/Toronto:20250830T173000
DTSTAMP:20260420T031954
CREATED:20210430T141232Z
LAST-MODIFIED:20210430T141232Z
UID:1878-1756571400-1756575000@paroisseskapparishes.ca
SUMMARY:Saturday Mass
DESCRIPTION:
URL:https://paroisseskapparishes.ca/stpatricks/event/sunday-mass-11/2025-08-30/
END:VEVENT
BEGIN:VEVENT
DTSTART;TZID=America/Toronto:20250824T093000
DTEND;TZID=America/Toronto:20250824T103000
DTSTAMP:20260420T031954
CREATED:20210430T141116Z
LAST-MODIFIED:20210430T141116Z
UID:1877-1756027800-1756031400@paroisseskapparishes.ca
SUMMARY:Sunday Mass
DESCRIPTION:
URL:https://paroisseskapparishes.ca/stpatricks/event/sunday-mass-10/2025-08-24/
END:VEVENT
BEGIN:VEVENT
DTSTART;TZID=America/Toronto:20250823T163000
DTEND;TZID=America/Toronto:20250823T173000
DTSTAMP:20260420T031954
CREATED:20210430T141232Z
LAST-MODIFIED:20210430T141232Z
UID:1876-1755966600-1755970200@paroisseskapparishes.ca
SUMMARY:Saturday Mass
DESCRIPTION:
URL:https://paroisseskapparishes.ca/stpatricks/event/sunday-mass-11/2025-08-23/
END:VEVENT
BEGIN:VEVENT
DTSTART;TZID=America/Toronto:20250817T093000
DTEND;TZID=America/Toronto:20250817T103000
DTSTAMP:20260420T031954
CREATED:20210430T141116Z
LAST-MODIFIED:20210430T141116Z
UID:1875-1755423000-1755426600@paroisseskapparishes.ca
SUMMARY:Sunday Mass
DESCRIPTION:
URL:https://paroisseskapparishes.ca/stpatricks/event/sunday-mass-10/2025-08-17/
END:VEVENT
BEGIN:VEVENT
DTSTART;TZID=America/Toronto:20250816T163000
DTEND;TZID=America/Toronto:20250816T173000
DTSTAMP:20260420T031954
CREATED:20210430T141232Z
LAST-MODIFIED:20210430T141232Z
UID:1874-1755361800-1755365400@paroisseskapparishes.ca
SUMMARY:Saturday Mass
DESCRIPTION:
URL:https://paroisseskapparishes.ca/stpatricks/event/sunday-mass-11/2025-08-16/
END:VEVENT
BEGIN:VEVENT
DTSTART;TZID=America/Toronto:20250810T093000
DTEND;TZID=America/Toronto:20250810T103000
DTSTAMP:20260420T031954
CREATED:20210430T141116Z
LAST-MODIFIED:20210430T141116Z
UID:1873-1754818200-1754821800@paroisseskapparishes.ca
SUMMARY:Sunday Mass
DESCRIPTION:
URL:https://paroisseskapparishes.ca/stpatricks/event/sunday-mass-10/2025-08-10/
END:VEVENT
BEGIN:VEVENT
DTSTART;TZID=America/Toronto:20250809T163000
DTEND;TZID=America/Toronto:20250809T173000
DTSTAMP:20260420T031954
CREATED:20210430T141232Z
LAST-MODIFIED:20210430T141232Z
UID:1872-1754757000-1754760600@paroisseskapparishes.ca
SUMMARY:Saturday Mass
DESCRIPTION:
URL:https://paroisseskapparishes.ca/stpatricks/event/sunday-mass-11/2025-08-09/
END:VEVENT
BEGIN:VEVENT
DTSTART;TZID=America/Toronto:20250803T093000
DTEND;TZID=America/Toronto:20250803T103000
DTSTAMP:20260420T031954
CREATED:20210430T141116Z
LAST-MODIFIED:20210430T141116Z
UID:1871-1754213400-1754217000@paroisseskapparishes.ca
SUMMARY:Sunday Mass
DESCRIPTION:
URL:https://paroisseskapparishes.ca/stpatricks/event/sunday-mass-10/2025-08-03/
END:VEVENT
BEGIN:VEVENT
DTSTART;TZID=America/Toronto:20250802T163000
DTEND;TZID=America/Toronto:20250802T173000
DTSTAMP:20260420T031954
CREATED:20210430T141232Z
LAST-MODIFIED:20210430T141232Z
UID:1870-1754152200-1754155800@paroisseskapparishes.ca
SUMMARY:Saturday Mass
DESCRIPTION:
URL:https://paroisseskapparishes.ca/stpatricks/event/sunday-mass-11/2025-08-02/
END:VEVENT
BEGIN:VEVENT
DTSTART;TZID=America/Toronto:20250727T093000
DTEND;TZID=America/Toronto:20250727T103000
DTSTAMP:20260420T031954
CREATED:20210430T141116Z
LAST-MODIFIED:20210430T141116Z
UID:1869-1753608600-1753612200@paroisseskapparishes.ca
SUMMARY:Sunday Mass
DESCRIPTION:
URL:https://paroisseskapparishes.ca/stpatricks/event/sunday-mass-10/2025-07-27/
END:VEVENT
BEGIN:VEVENT
DTSTART;TZID=America/Toronto:20250726T163000
DTEND;TZID=America/Toronto:20250726T173000
DTSTAMP:20260420T031954
CREATED:20210430T141232Z
LAST-MODIFIED:20210430T141232Z
UID:1868-1753547400-1753551000@paroisseskapparishes.ca
SUMMARY:Saturday Mass
DESCRIPTION:
URL:https://paroisseskapparishes.ca/stpatricks/event/sunday-mass-11/2025-07-26/
END:VEVENT
BEGIN:VEVENT
DTSTART;TZID=America/Toronto:20250720T093000
DTEND;TZID=America/Toronto:20250720T103000
DTSTAMP:20260420T031954
CREATED:20210430T141116Z
LAST-MODIFIED:20210430T141116Z
UID:1867-1753003800-1753007400@paroisseskapparishes.ca
SUMMARY:Sunday Mass
DESCRIPTION:
URL:https://paroisseskapparishes.ca/stpatricks/event/sunday-mass-10/2025-07-20/
END:VEVENT
BEGIN:VEVENT
DTSTART;TZID=America/Toronto:20250719T163000
DTEND;TZID=America/Toronto:20250719T173000
DTSTAMP:20260420T031954
CREATED:20210430T141232Z
LAST-MODIFIED:20210430T141232Z
UID:1866-1752942600-1752946200@paroisseskapparishes.ca
SUMMARY:Saturday Mass
DESCRIPTION:
URL:https://paroisseskapparishes.ca/stpatricks/event/sunday-mass-11/2025-07-19/
END:VEVENT
END:VCALENDAR