BEGIN:VCALENDAR
VERSION:2.0
PRODID:-//St. Patrick&#039;s Parish - ECPv5.8.0//NONSGML v1.0//EN
CALSCALE:GREGORIAN
METHOD:PUBLISH
X-WR-CALNAME:St. Patrick&#039;s Parish
X-ORIGINAL-URL:https://paroisseskapparishes.ca/stpatricks
X-WR-CALDESC:Events for St. Patrick&#039;s Parish
BEGIN:VTIMEZONE
TZID:America/Toronto
BEGIN:DAYLIGHT
TZOFFSETFROM:-0500
TZOFFSETTO:-0400
TZNAME:EDT
DTSTART:20210314T070000
END:DAYLIGHT
BEGIN:STANDARD
TZOFFSETFROM:-0400
TZOFFSETTO:-0500
TZNAME:EST
DTSTART:20211107T060000
END:STANDARD
END:VTIMEZONE
BEGIN:VEVENT
DTSTART;TZID=America/Toronto:20210226T131500
DTEND;TZID=America/Toronto:20210226T143000
DTSTAMP:20260420T135055
CREATED:20210225T122757Z
LAST-MODIFIED:20210226T191117Z
UID:763-1614345300-1614349800@paroisseskapparishes.ca
SUMMARY:Way of the Cross
DESCRIPTION:
URL:https://paroisseskapparishes.ca/stpatricks/event/way-of-the-cross/2021-02-26/
END:VEVENT
END:VCALENDAR