BEGIN:VCALENDAR
VERSION:2.0
PRODID:-//St. Patrick&#039;s Parish - ECPv5.8.0//NONSGML v1.0//EN
CALSCALE:GREGORIAN
METHOD:PUBLISH
X-WR-CALNAME:St. Patrick&#039;s Parish
X-ORIGINAL-URL:https://paroisseskapparishes.ca/stpatricks
X-WR-CALDESC:Events for St. Patrick&#039;s Parish
BEGIN:VTIMEZONE
TZID:America/Toronto
BEGIN:DAYLIGHT
TZOFFSETFROM:-0500
TZOFFSETTO:-0400
TZNAME:EDT
DTSTART:20210314T070000
END:DAYLIGHT
BEGIN:STANDARD
TZOFFSETFROM:-0400
TZOFFSETTO:-0500
TZNAME:EST
DTSTART:20211107T060000
END:STANDARD
END:VTIMEZONE
BEGIN:VEVENT
DTSTART;TZID=America/Toronto:20210312T190000
DTEND;TZID=America/Toronto:20210312T220000
DTSTAMP:20260420T101134
CREATED:20210309T000105Z
LAST-MODIFIED:20210309T000806Z
UID:819-1615575600-1615586400@paroisseskapparishes.ca
SUMMARY:Vigil for the Lord
DESCRIPTION:
URL:https://paroisseskapparishes.ca/stpatricks/event/vigil-for-the-lord/
END:VEVENT
END:VCALENDAR