BEGIN:VCALENDAR
VERSION:2.0
PRODID:-//St. Patrick&#039;s Parish - ECPv5.8.0//NONSGML v1.0//EN
CALSCALE:GREGORIAN
METHOD:PUBLISH
X-WR-CALNAME:St. Patrick&#039;s Parish
X-ORIGINAL-URL:https://paroisseskapparishes.ca/stpatricks
X-WR-CALDESC:Events for St. Patrick&#039;s Parish
BEGIN:VTIMEZONE
TZID:America/Toronto
BEGIN:DAYLIGHT
TZOFFSETFROM:-0500
TZOFFSETTO:-0400
TZNAME:EDT
DTSTART:20210314T070000
END:DAYLIGHT
BEGIN:STANDARD
TZOFFSETFROM:-0400
TZOFFSETTO:-0500
TZNAME:EST
DTSTART:20211107T060000
END:STANDARD
END:VTIMEZONE
BEGIN:VEVENT
DTSTART;TZID=America/Toronto:20210404T110000
DTEND;TZID=America/Toronto:20210404T120000
DTSTAMP:20260420T015121
CREATED:20210405T174901Z
LAST-MODIFIED:20210405T180028Z
UID:930-1617534000-1617537600@paroisseskapparishes.ca
SUMMARY:Sunday Mass
DESCRIPTION:Make your reservation at 367-4617
URL:https://paroisseskapparishes.ca/stpatricks/event/sunday-mass-8/2021-04-04/
END:VEVENT
END:VCALENDAR