BEGIN:VCALENDAR
VERSION:2.0
PRODID:-//St. Patrick&#039;s Parish - ECPv5.8.0//NONSGML v1.0//EN
CALSCALE:GREGORIAN
METHOD:PUBLISH
X-WR-CALNAME:St. Patrick&#039;s Parish
X-ORIGINAL-URL:https://paroisseskapparishes.ca/stpatricks
X-WR-CALDESC:Events for St. Patrick&#039;s Parish
BEGIN:VTIMEZONE
TZID:America/Toronto
BEGIN:DAYLIGHT
TZOFFSETFROM:-0500
TZOFFSETTO:-0400
TZNAME:EDT
DTSTART:20260308T070000
END:DAYLIGHT
BEGIN:STANDARD
TZOFFSETFROM:-0400
TZOFFSETTO:-0500
TZNAME:EST
DTSTART:20261101T060000
END:STANDARD
BEGIN:DAYLIGHT
TZOFFSETFROM:-0500
TZOFFSETTO:-0400
TZNAME:EDT
DTSTART:20270314T070000
END:DAYLIGHT
BEGIN:STANDARD
TZOFFSETFROM:-0400
TZOFFSETTO:-0500
TZNAME:EST
DTSTART:20271107T060000
END:STANDARD
END:VTIMEZONE
BEGIN:VEVENT
DTSTART;TZID=America/Toronto:20260912T163000
DTEND;TZID=America/Toronto:20260912T173000
DTSTAMP:20260419T101624
CREATED:20210430T141232Z
LAST-MODIFIED:20210430T141232Z
UID:1988-1789230600-1789234200@paroisseskapparishes.ca
SUMMARY:Saturday Mass
DESCRIPTION:
URL:https://paroisseskapparishes.ca/stpatricks/event/sunday-mass-11/2026-09-12/
END:VEVENT
BEGIN:VEVENT
DTSTART;TZID=America/Toronto:20260919T163000
DTEND;TZID=America/Toronto:20260919T173000
DTSTAMP:20260419T101624
CREATED:20210430T141232Z
LAST-MODIFIED:20210430T141232Z
UID:1990-1789835400-1789839000@paroisseskapparishes.ca
SUMMARY:Saturday Mass
DESCRIPTION:
URL:https://paroisseskapparishes.ca/stpatricks/event/sunday-mass-11/2026-09-19/
END:VEVENT
BEGIN:VEVENT
DTSTART;TZID=America/Toronto:20260926T163000
DTEND;TZID=America/Toronto:20260926T173000
DTSTAMP:20260419T101624
CREATED:20210430T141232Z
LAST-MODIFIED:20210430T141232Z
UID:1992-1790440200-1790443800@paroisseskapparishes.ca
SUMMARY:Saturday Mass
DESCRIPTION:
URL:https://paroisseskapparishes.ca/stpatricks/event/sunday-mass-11/2026-09-26/
END:VEVENT
BEGIN:VEVENT
DTSTART;TZID=America/Toronto:20261003T163000
DTEND;TZID=America/Toronto:20261003T173000
DTSTAMP:20260419T101624
CREATED:20210430T141232Z
LAST-MODIFIED:20210430T141232Z
UID:1994-1791045000-1791048600@paroisseskapparishes.ca
SUMMARY:Saturday Mass
DESCRIPTION:
URL:https://paroisseskapparishes.ca/stpatricks/event/sunday-mass-11/2026-10-03/
END:VEVENT
BEGIN:VEVENT
DTSTART;TZID=America/Toronto:20261010T163000
DTEND;TZID=America/Toronto:20261010T173000
DTSTAMP:20260419T101624
CREATED:20210430T141232Z
LAST-MODIFIED:20210430T141232Z
UID:1996-1791649800-1791653400@paroisseskapparishes.ca
SUMMARY:Saturday Mass
DESCRIPTION:
URL:https://paroisseskapparishes.ca/stpatricks/event/sunday-mass-11/2026-10-10/
END:VEVENT
BEGIN:VEVENT
DTSTART;TZID=America/Toronto:20261017T163000
DTEND;TZID=America/Toronto:20261017T173000
DTSTAMP:20260419T101624
CREATED:20210430T141232Z
LAST-MODIFIED:20210430T141232Z
UID:1998-1792254600-1792258200@paroisseskapparishes.ca
SUMMARY:Saturday Mass
DESCRIPTION:
URL:https://paroisseskapparishes.ca/stpatricks/event/sunday-mass-11/2026-10-17/
END:VEVENT
BEGIN:VEVENT
DTSTART;TZID=America/Toronto:20261024T163000
DTEND;TZID=America/Toronto:20261024T173000
DTSTAMP:20260419T101624
CREATED:20210430T141232Z
LAST-MODIFIED:20210430T141232Z
UID:2000-1792859400-1792863000@paroisseskapparishes.ca
SUMMARY:Saturday Mass
DESCRIPTION:
URL:https://paroisseskapparishes.ca/stpatricks/event/sunday-mass-11/2026-10-24/
END:VEVENT
BEGIN:VEVENT
DTSTART;TZID=America/Toronto:20261031T163000
DTEND;TZID=America/Toronto:20261031T173000
DTSTAMP:20260419T101624
CREATED:20210430T141232Z
LAST-MODIFIED:20210430T141232Z
UID:2002-1793464200-1793467800@paroisseskapparishes.ca
SUMMARY:Saturday Mass
DESCRIPTION:
URL:https://paroisseskapparishes.ca/stpatricks/event/sunday-mass-11/2026-10-31/
END:VEVENT
BEGIN:VEVENT
DTSTART;TZID=America/Toronto:20261107T163000
DTEND;TZID=America/Toronto:20261107T173000
DTSTAMP:20260419T101624
CREATED:20210430T141232Z
LAST-MODIFIED:20210430T141232Z
UID:2004-1794069000-1794072600@paroisseskapparishes.ca
SUMMARY:Saturday Mass
DESCRIPTION:
URL:https://paroisseskapparishes.ca/stpatricks/event/sunday-mass-11/2026-11-07/
END:VEVENT
BEGIN:VEVENT
DTSTART;TZID=America/Toronto:20261114T163000
DTEND;TZID=America/Toronto:20261114T173000
DTSTAMP:20260419T101624
CREATED:20210430T141232Z
LAST-MODIFIED:20210430T141232Z
UID:2006-1794673800-1794677400@paroisseskapparishes.ca
SUMMARY:Saturday Mass
DESCRIPTION:
URL:https://paroisseskapparishes.ca/stpatricks/event/sunday-mass-11/2026-11-14/
END:VEVENT
BEGIN:VEVENT
DTSTART;TZID=America/Toronto:20261121T163000
DTEND;TZID=America/Toronto:20261121T173000
DTSTAMP:20260419T101624
CREATED:20210430T141232Z
LAST-MODIFIED:20210430T141232Z
UID:2008-1795278600-1795282200@paroisseskapparishes.ca
SUMMARY:Saturday Mass
DESCRIPTION:
URL:https://paroisseskapparishes.ca/stpatricks/event/sunday-mass-11/2026-11-21/
END:VEVENT
BEGIN:VEVENT
DTSTART;TZID=America/Toronto:20261128T163000
DTEND;TZID=America/Toronto:20261128T173000
DTSTAMP:20260419T101624
CREATED:20210430T141232Z
LAST-MODIFIED:20210430T141232Z
UID:2010-1795883400-1795887000@paroisseskapparishes.ca
SUMMARY:Saturday Mass
DESCRIPTION:
URL:https://paroisseskapparishes.ca/stpatricks/event/sunday-mass-11/2026-11-28/
END:VEVENT
BEGIN:VEVENT
DTSTART;TZID=America/Toronto:20261205T163000
DTEND;TZID=America/Toronto:20261205T173000
DTSTAMP:20260419T101624
CREATED:20210430T141232Z
LAST-MODIFIED:20210430T141232Z
UID:2012-1796488200-1796491800@paroisseskapparishes.ca
SUMMARY:Saturday Mass
DESCRIPTION:
URL:https://paroisseskapparishes.ca/stpatricks/event/sunday-mass-11/2026-12-05/
END:VEVENT
BEGIN:VEVENT
DTSTART;TZID=America/Toronto:20261212T163000
DTEND;TZID=America/Toronto:20261212T173000
DTSTAMP:20260419T101624
CREATED:20210430T141232Z
LAST-MODIFIED:20210430T141232Z
UID:2014-1797093000-1797096600@paroisseskapparishes.ca
SUMMARY:Saturday Mass
DESCRIPTION:
URL:https://paroisseskapparishes.ca/stpatricks/event/sunday-mass-11/2026-12-12/
END:VEVENT
BEGIN:VEVENT
DTSTART;TZID=America/Toronto:20261219T163000
DTEND;TZID=America/Toronto:20261219T173000
DTSTAMP:20260419T101624
CREATED:20210430T141232Z
LAST-MODIFIED:20210430T141232Z
UID:2016-1797697800-1797701400@paroisseskapparishes.ca
SUMMARY:Saturday Mass
DESCRIPTION:
URL:https://paroisseskapparishes.ca/stpatricks/event/sunday-mass-11/2026-12-19/
END:VEVENT
BEGIN:VEVENT
DTSTART;TZID=America/Toronto:20261226T163000
DTEND;TZID=America/Toronto:20261226T173000
DTSTAMP:20260419T101624
CREATED:20210430T141232Z
LAST-MODIFIED:20210430T141232Z
UID:2018-1798302600-1798306200@paroisseskapparishes.ca
SUMMARY:Saturday Mass
DESCRIPTION:
URL:https://paroisseskapparishes.ca/stpatricks/event/sunday-mass-11/2026-12-26/
END:VEVENT
BEGIN:VEVENT
DTSTART;TZID=America/Toronto:20270102T163000
DTEND;TZID=America/Toronto:20270102T173000
DTSTAMP:20260419T101624
CREATED:20210430T141232Z
LAST-MODIFIED:20210430T141232Z
UID:2020-1798907400-1798911000@paroisseskapparishes.ca
SUMMARY:Saturday Mass
DESCRIPTION:
URL:https://paroisseskapparishes.ca/stpatricks/event/sunday-mass-11/2027-01-02/
END:VEVENT
BEGIN:VEVENT
DTSTART;TZID=America/Toronto:20270109T163000
DTEND;TZID=America/Toronto:20270109T173000
DTSTAMP:20260419T101624
CREATED:20210430T141232Z
LAST-MODIFIED:20210430T141232Z
UID:2022-1799512200-1799515800@paroisseskapparishes.ca
SUMMARY:Saturday Mass
DESCRIPTION:
URL:https://paroisseskapparishes.ca/stpatricks/event/sunday-mass-11/2027-01-09/
END:VEVENT
BEGIN:VEVENT
DTSTART;TZID=America/Toronto:20270116T163000
DTEND;TZID=America/Toronto:20270116T173000
DTSTAMP:20260419T101624
CREATED:20210430T141232Z
LAST-MODIFIED:20210430T141232Z
UID:2024-1800117000-1800120600@paroisseskapparishes.ca
SUMMARY:Saturday Mass
DESCRIPTION:
URL:https://paroisseskapparishes.ca/stpatricks/event/sunday-mass-11/2027-01-16/
END:VEVENT
BEGIN:VEVENT
DTSTART;TZID=America/Toronto:20270123T163000
DTEND;TZID=America/Toronto:20270123T173000
DTSTAMP:20260419T101624
CREATED:20210430T141232Z
LAST-MODIFIED:20210430T141232Z
UID:2026-1800721800-1800725400@paroisseskapparishes.ca
SUMMARY:Saturday Mass
DESCRIPTION:
URL:https://paroisseskapparishes.ca/stpatricks/event/sunday-mass-11/2027-01-23/
END:VEVENT
BEGIN:VEVENT
DTSTART;TZID=America/Toronto:20270130T163000
DTEND;TZID=America/Toronto:20270130T173000
DTSTAMP:20260419T101624
CREATED:20210430T141232Z
LAST-MODIFIED:20210430T141232Z
UID:2028-1801326600-1801330200@paroisseskapparishes.ca
SUMMARY:Saturday Mass
DESCRIPTION:
URL:https://paroisseskapparishes.ca/stpatricks/event/sunday-mass-11/2027-01-30/
END:VEVENT
BEGIN:VEVENT
DTSTART;TZID=America/Toronto:20270206T163000
DTEND;TZID=America/Toronto:20270206T173000
DTSTAMP:20260419T101624
CREATED:20210430T141232Z
LAST-MODIFIED:20210430T141232Z
UID:2030-1801931400-1801935000@paroisseskapparishes.ca
SUMMARY:Saturday Mass
DESCRIPTION:
URL:https://paroisseskapparishes.ca/stpatricks/event/sunday-mass-11/2027-02-06/
END:VEVENT
BEGIN:VEVENT
DTSTART;TZID=America/Toronto:20270213T163000
DTEND;TZID=America/Toronto:20270213T173000
DTSTAMP:20260419T101624
CREATED:20210430T141232Z
LAST-MODIFIED:20210430T141232Z
UID:2033-1802536200-1802539800@paroisseskapparishes.ca
SUMMARY:Saturday Mass
DESCRIPTION:
URL:https://paroisseskapparishes.ca/stpatricks/event/sunday-mass-11/2027-02-13/
END:VEVENT
BEGIN:VEVENT
DTSTART;TZID=America/Toronto:20270220T163000
DTEND;TZID=America/Toronto:20270220T173000
DTSTAMP:20260419T101624
CREATED:20210430T141232Z
LAST-MODIFIED:20210430T141232Z
UID:2035-1803141000-1803144600@paroisseskapparishes.ca
SUMMARY:Saturday Mass
DESCRIPTION:
URL:https://paroisseskapparishes.ca/stpatricks/event/sunday-mass-11/2027-02-20/
END:VEVENT
BEGIN:VEVENT
DTSTART;TZID=America/Toronto:20270227T163000
DTEND;TZID=America/Toronto:20270227T173000
DTSTAMP:20260419T101624
CREATED:20210430T141232Z
LAST-MODIFIED:20210430T141232Z
UID:2037-1803745800-1803749400@paroisseskapparishes.ca
SUMMARY:Saturday Mass
DESCRIPTION:
URL:https://paroisseskapparishes.ca/stpatricks/event/sunday-mass-11/2027-02-27/
END:VEVENT
BEGIN:VEVENT
DTSTART;TZID=America/Toronto:20270306T163000
DTEND;TZID=America/Toronto:20270306T173000
DTSTAMP:20260419T101624
CREATED:20210430T141232Z
LAST-MODIFIED:20210430T141232Z
UID:2039-1804350600-1804354200@paroisseskapparishes.ca
SUMMARY:Saturday Mass
DESCRIPTION:
URL:https://paroisseskapparishes.ca/stpatricks/event/sunday-mass-11/2027-03-06/
END:VEVENT
BEGIN:VEVENT
DTSTART;TZID=America/Toronto:20270313T163000
DTEND;TZID=America/Toronto:20270313T173000
DTSTAMP:20260419T101624
CREATED:20210430T141232Z
LAST-MODIFIED:20210430T141232Z
UID:2045-1804955400-1804959000@paroisseskapparishes.ca
SUMMARY:Saturday Mass
DESCRIPTION:
URL:https://paroisseskapparishes.ca/stpatricks/event/sunday-mass-11/2027-03-13/
END:VEVENT
BEGIN:VEVENT
DTSTART;TZID=America/Toronto:20270320T163000
DTEND;TZID=America/Toronto:20270320T173000
DTSTAMP:20260419T101624
CREATED:20210430T141232Z
LAST-MODIFIED:20210430T141232Z
UID:2047-1805560200-1805563800@paroisseskapparishes.ca
SUMMARY:Saturday Mass
DESCRIPTION:
URL:https://paroisseskapparishes.ca/stpatricks/event/sunday-mass-11/2027-03-20/
END:VEVENT
BEGIN:VEVENT
DTSTART;TZID=America/Toronto:20270327T163000
DTEND;TZID=America/Toronto:20270327T173000
DTSTAMP:20260419T101624
CREATED:20210430T141232Z
LAST-MODIFIED:20210430T141232Z
UID:2049-1806165000-1806168600@paroisseskapparishes.ca
SUMMARY:Saturday Mass
DESCRIPTION:
URL:https://paroisseskapparishes.ca/stpatricks/event/sunday-mass-11/2027-03-27/
END:VEVENT
BEGIN:VEVENT
DTSTART;TZID=America/Toronto:20270403T163000
DTEND;TZID=America/Toronto:20270403T173000
DTSTAMP:20260419T101624
CREATED:20210430T141232Z
LAST-MODIFIED:20210430T141232Z
UID:2051-1806769800-1806773400@paroisseskapparishes.ca
SUMMARY:Saturday Mass
DESCRIPTION:
URL:https://paroisseskapparishes.ca/stpatricks/event/sunday-mass-11/2027-04-03/
END:VEVENT
END:VCALENDAR