BEGIN:VCALENDAR
VERSION:2.0
PRODID:-//St. Patrick&#039;s Parish - ECPv5.8.0//NONSGML v1.0//EN
CALSCALE:GREGORIAN
METHOD:PUBLISH
X-WR-CALNAME:St. Patrick&#039;s Parish
X-ORIGINAL-URL:https://paroisseskapparishes.ca/stpatricks
X-WR-CALDESC:Events for St. Patrick&#039;s Parish
BEGIN:VTIMEZONE
TZID:America/Toronto
BEGIN:DAYLIGHT
TZOFFSETFROM:-0500
TZOFFSETTO:-0400
TZNAME:EDT
DTSTART:20250309T070000
END:DAYLIGHT
BEGIN:STANDARD
TZOFFSETFROM:-0400
TZOFFSETTO:-0500
TZNAME:EST
DTSTART:20251102T060000
END:STANDARD
BEGIN:DAYLIGHT
TZOFFSETFROM:-0500
TZOFFSETTO:-0400
TZNAME:EDT
DTSTART:20260308T070000
END:DAYLIGHT
BEGIN:STANDARD
TZOFFSETFROM:-0400
TZOFFSETTO:-0500
TZNAME:EST
DTSTART:20261101T060000
END:STANDARD
END:VTIMEZONE
BEGIN:VEVENT
DTSTART;TZID=America/Toronto:20260418T163000
DTEND;TZID=America/Toronto:20260418T173000
DTSTAMP:20260419T101700
CREATED:20210430T141232Z
LAST-MODIFIED:20210430T141232Z
UID:1946-1776529800-1776533400@paroisseskapparishes.ca
SUMMARY:Saturday Mass
DESCRIPTION:
URL:https://paroisseskapparishes.ca/stpatricks/event/sunday-mass-11/2026-04-18/
END:VEVENT
BEGIN:VEVENT
DTSTART;TZID=America/Toronto:20260411T163000
DTEND;TZID=America/Toronto:20260411T173000
DTSTAMP:20260419T101700
CREATED:20210430T141232Z
LAST-MODIFIED:20210430T141232Z
UID:1944-1775925000-1775928600@paroisseskapparishes.ca
SUMMARY:Saturday Mass
DESCRIPTION:
URL:https://paroisseskapparishes.ca/stpatricks/event/sunday-mass-11/2026-04-11/
END:VEVENT
BEGIN:VEVENT
DTSTART;TZID=America/Toronto:20260404T163000
DTEND;TZID=America/Toronto:20260404T173000
DTSTAMP:20260419T101700
CREATED:20210430T141232Z
LAST-MODIFIED:20210430T141232Z
UID:1942-1775320200-1775323800@paroisseskapparishes.ca
SUMMARY:Saturday Mass
DESCRIPTION:
URL:https://paroisseskapparishes.ca/stpatricks/event/sunday-mass-11/2026-04-04/
END:VEVENT
BEGIN:VEVENT
DTSTART;TZID=America/Toronto:20260328T163000
DTEND;TZID=America/Toronto:20260328T173000
DTSTAMP:20260419T101700
CREATED:20210430T141232Z
LAST-MODIFIED:20210430T141232Z
UID:1940-1774715400-1774719000@paroisseskapparishes.ca
SUMMARY:Saturday Mass
DESCRIPTION:
URL:https://paroisseskapparishes.ca/stpatricks/event/sunday-mass-11/2026-03-28/
END:VEVENT
BEGIN:VEVENT
DTSTART;TZID=America/Toronto:20260321T163000
DTEND;TZID=America/Toronto:20260321T173000
DTSTAMP:20260419T101700
CREATED:20210430T141232Z
LAST-MODIFIED:20210430T141232Z
UID:1938-1774110600-1774114200@paroisseskapparishes.ca
SUMMARY:Saturday Mass
DESCRIPTION:
URL:https://paroisseskapparishes.ca/stpatricks/event/sunday-mass-11/2026-03-21/
END:VEVENT
BEGIN:VEVENT
DTSTART;TZID=America/Toronto:20260314T163000
DTEND;TZID=America/Toronto:20260314T173000
DTSTAMP:20260419T101700
CREATED:20210430T141232Z
LAST-MODIFIED:20210430T141232Z
UID:1936-1773505800-1773509400@paroisseskapparishes.ca
SUMMARY:Saturday Mass
DESCRIPTION:
URL:https://paroisseskapparishes.ca/stpatricks/event/sunday-mass-11/2026-03-14/
END:VEVENT
BEGIN:VEVENT
DTSTART;TZID=America/Toronto:20260307T163000
DTEND;TZID=America/Toronto:20260307T173000
DTSTAMP:20260419T101700
CREATED:20210430T141232Z
LAST-MODIFIED:20210430T141232Z
UID:1934-1772901000-1772904600@paroisseskapparishes.ca
SUMMARY:Saturday Mass
DESCRIPTION:
URL:https://paroisseskapparishes.ca/stpatricks/event/sunday-mass-11/2026-03-07/
END:VEVENT
BEGIN:VEVENT
DTSTART;TZID=America/Toronto:20260228T163000
DTEND;TZID=America/Toronto:20260228T173000
DTSTAMP:20260419T101700
CREATED:20210430T141232Z
LAST-MODIFIED:20210430T141232Z
UID:1932-1772296200-1772299800@paroisseskapparishes.ca
SUMMARY:Saturday Mass
DESCRIPTION:
URL:https://paroisseskapparishes.ca/stpatricks/event/sunday-mass-11/2026-02-28/
END:VEVENT
BEGIN:VEVENT
DTSTART;TZID=America/Toronto:20260221T163000
DTEND;TZID=America/Toronto:20260221T173000
DTSTAMP:20260419T101700
CREATED:20210430T141232Z
LAST-MODIFIED:20210430T141232Z
UID:1930-1771691400-1771695000@paroisseskapparishes.ca
SUMMARY:Saturday Mass
DESCRIPTION:
URL:https://paroisseskapparishes.ca/stpatricks/event/sunday-mass-11/2026-02-21/
END:VEVENT
BEGIN:VEVENT
DTSTART;TZID=America/Toronto:20260214T163000
DTEND;TZID=America/Toronto:20260214T173000
DTSTAMP:20260419T101700
CREATED:20210430T141232Z
LAST-MODIFIED:20210430T141232Z
UID:1928-1771086600-1771090200@paroisseskapparishes.ca
SUMMARY:Saturday Mass
DESCRIPTION:
URL:https://paroisseskapparishes.ca/stpatricks/event/sunday-mass-11/2026-02-14/
END:VEVENT
BEGIN:VEVENT
DTSTART;TZID=America/Toronto:20260207T163000
DTEND;TZID=America/Toronto:20260207T173000
DTSTAMP:20260419T101700
CREATED:20210430T141232Z
LAST-MODIFIED:20210430T141232Z
UID:1926-1770481800-1770485400@paroisseskapparishes.ca
SUMMARY:Saturday Mass
DESCRIPTION:
URL:https://paroisseskapparishes.ca/stpatricks/event/sunday-mass-11/2026-02-07/
END:VEVENT
BEGIN:VEVENT
DTSTART;TZID=America/Toronto:20260131T163000
DTEND;TZID=America/Toronto:20260131T173000
DTSTAMP:20260419T101700
CREATED:20210430T141232Z
LAST-MODIFIED:20210430T141232Z
UID:1924-1769877000-1769880600@paroisseskapparishes.ca
SUMMARY:Saturday Mass
DESCRIPTION:
URL:https://paroisseskapparishes.ca/stpatricks/event/sunday-mass-11/2026-01-31/
END:VEVENT
BEGIN:VEVENT
DTSTART;TZID=America/Toronto:20260124T163000
DTEND;TZID=America/Toronto:20260124T173000
DTSTAMP:20260419T101700
CREATED:20210430T141232Z
LAST-MODIFIED:20210430T141232Z
UID:1922-1769272200-1769275800@paroisseskapparishes.ca
SUMMARY:Saturday Mass
DESCRIPTION:
URL:https://paroisseskapparishes.ca/stpatricks/event/sunday-mass-11/2026-01-24/
END:VEVENT
BEGIN:VEVENT
DTSTART;TZID=America/Toronto:20260117T163000
DTEND;TZID=America/Toronto:20260117T173000
DTSTAMP:20260419T101700
CREATED:20210430T141232Z
LAST-MODIFIED:20210430T141232Z
UID:1920-1768667400-1768671000@paroisseskapparishes.ca
SUMMARY:Saturday Mass
DESCRIPTION:
URL:https://paroisseskapparishes.ca/stpatricks/event/sunday-mass-11/2026-01-17/
END:VEVENT
BEGIN:VEVENT
DTSTART;TZID=America/Toronto:20260110T163000
DTEND;TZID=America/Toronto:20260110T173000
DTSTAMP:20260419T101700
CREATED:20210430T141232Z
LAST-MODIFIED:20210430T141232Z
UID:1918-1768062600-1768066200@paroisseskapparishes.ca
SUMMARY:Saturday Mass
DESCRIPTION:
URL:https://paroisseskapparishes.ca/stpatricks/event/sunday-mass-11/2026-01-10/
END:VEVENT
BEGIN:VEVENT
DTSTART;TZID=America/Toronto:20260103T163000
DTEND;TZID=America/Toronto:20260103T173000
DTSTAMP:20260419T101700
CREATED:20210430T141232Z
LAST-MODIFIED:20210430T141232Z
UID:1915-1767457800-1767461400@paroisseskapparishes.ca
SUMMARY:Saturday Mass
DESCRIPTION:
URL:https://paroisseskapparishes.ca/stpatricks/event/sunday-mass-11/2026-01-03/
END:VEVENT
BEGIN:VEVENT
DTSTART;TZID=America/Toronto:20251227T163000
DTEND;TZID=America/Toronto:20251227T173000
DTSTAMP:20260419T101700
CREATED:20210430T141232Z
LAST-MODIFIED:20210430T141232Z
UID:1913-1766853000-1766856600@paroisseskapparishes.ca
SUMMARY:Saturday Mass
DESCRIPTION:
URL:https://paroisseskapparishes.ca/stpatricks/event/sunday-mass-11/2025-12-27/
END:VEVENT
BEGIN:VEVENT
DTSTART;TZID=America/Toronto:20251220T163000
DTEND;TZID=America/Toronto:20251220T173000
DTSTAMP:20260419T101700
CREATED:20210430T141232Z
LAST-MODIFIED:20210430T141232Z
UID:1911-1766248200-1766251800@paroisseskapparishes.ca
SUMMARY:Saturday Mass
DESCRIPTION:
URL:https://paroisseskapparishes.ca/stpatricks/event/sunday-mass-11/2025-12-20/
END:VEVENT
BEGIN:VEVENT
DTSTART;TZID=America/Toronto:20251213T163000
DTEND;TZID=America/Toronto:20251213T173000
DTSTAMP:20260419T101700
CREATED:20210430T141232Z
LAST-MODIFIED:20210430T141232Z
UID:1909-1765643400-1765647000@paroisseskapparishes.ca
SUMMARY:Saturday Mass
DESCRIPTION:
URL:https://paroisseskapparishes.ca/stpatricks/event/sunday-mass-11/2025-12-13/
END:VEVENT
BEGIN:VEVENT
DTSTART;TZID=America/Toronto:20251206T163000
DTEND;TZID=America/Toronto:20251206T173000
DTSTAMP:20260419T101700
CREATED:20210430T141232Z
LAST-MODIFIED:20210430T141232Z
UID:1907-1765038600-1765042200@paroisseskapparishes.ca
SUMMARY:Saturday Mass
DESCRIPTION:
URL:https://paroisseskapparishes.ca/stpatricks/event/sunday-mass-11/2025-12-06/
END:VEVENT
BEGIN:VEVENT
DTSTART;TZID=America/Toronto:20251129T163000
DTEND;TZID=America/Toronto:20251129T173000
DTSTAMP:20260419T101700
CREATED:20210430T141232Z
LAST-MODIFIED:20210430T141232Z
UID:1904-1764433800-1764437400@paroisseskapparishes.ca
SUMMARY:Saturday Mass
DESCRIPTION:
URL:https://paroisseskapparishes.ca/stpatricks/event/sunday-mass-11/2025-11-29/
END:VEVENT
BEGIN:VEVENT
DTSTART;TZID=America/Toronto:20251122T163000
DTEND;TZID=America/Toronto:20251122T173000
DTSTAMP:20260419T101700
CREATED:20210430T141232Z
LAST-MODIFIED:20210430T141232Z
UID:1902-1763829000-1763832600@paroisseskapparishes.ca
SUMMARY:Saturday Mass
DESCRIPTION:
URL:https://paroisseskapparishes.ca/stpatricks/event/sunday-mass-11/2025-11-22/
END:VEVENT
BEGIN:VEVENT
DTSTART;TZID=America/Toronto:20251115T163000
DTEND;TZID=America/Toronto:20251115T173000
DTSTAMP:20260419T101700
CREATED:20210430T141232Z
LAST-MODIFIED:20210430T141232Z
UID:1900-1763224200-1763227800@paroisseskapparishes.ca
SUMMARY:Saturday Mass
DESCRIPTION:
URL:https://paroisseskapparishes.ca/stpatricks/event/sunday-mass-11/2025-11-15/
END:VEVENT
BEGIN:VEVENT
DTSTART;TZID=America/Toronto:20251108T163000
DTEND;TZID=America/Toronto:20251108T173000
DTSTAMP:20260419T101700
CREATED:20210430T141232Z
LAST-MODIFIED:20210430T141232Z
UID:1898-1762619400-1762623000@paroisseskapparishes.ca
SUMMARY:Saturday Mass
DESCRIPTION:
URL:https://paroisseskapparishes.ca/stpatricks/event/sunday-mass-11/2025-11-08/
END:VEVENT
BEGIN:VEVENT
DTSTART;TZID=America/Toronto:20251101T163000
DTEND;TZID=America/Toronto:20251101T173000
DTSTAMP:20260419T101700
CREATED:20210430T141232Z
LAST-MODIFIED:20210430T141232Z
UID:1896-1762014600-1762018200@paroisseskapparishes.ca
SUMMARY:Saturday Mass
DESCRIPTION:
URL:https://paroisseskapparishes.ca/stpatricks/event/sunday-mass-11/2025-11-01/
END:VEVENT
BEGIN:VEVENT
DTSTART;TZID=America/Toronto:20251025T163000
DTEND;TZID=America/Toronto:20251025T173000
DTSTAMP:20260419T101700
CREATED:20210430T141232Z
LAST-MODIFIED:20210430T141232Z
UID:1894-1761409800-1761413400@paroisseskapparishes.ca
SUMMARY:Saturday Mass
DESCRIPTION:
URL:https://paroisseskapparishes.ca/stpatricks/event/sunday-mass-11/2025-10-25/
END:VEVENT
BEGIN:VEVENT
DTSTART;TZID=America/Toronto:20251018T163000
DTEND;TZID=America/Toronto:20251018T173000
DTSTAMP:20260419T101700
CREATED:20210430T141232Z
LAST-MODIFIED:20210430T141232Z
UID:1892-1760805000-1760808600@paroisseskapparishes.ca
SUMMARY:Saturday Mass
DESCRIPTION:
URL:https://paroisseskapparishes.ca/stpatricks/event/sunday-mass-11/2025-10-18/
END:VEVENT
BEGIN:VEVENT
DTSTART;TZID=America/Toronto:20251011T163000
DTEND;TZID=America/Toronto:20251011T173000
DTSTAMP:20260419T101700
CREATED:20210430T141232Z
LAST-MODIFIED:20210430T141232Z
UID:1890-1760200200-1760203800@paroisseskapparishes.ca
SUMMARY:Saturday Mass
DESCRIPTION:
URL:https://paroisseskapparishes.ca/stpatricks/event/sunday-mass-11/2025-10-11/
END:VEVENT
BEGIN:VEVENT
DTSTART;TZID=America/Toronto:20251004T163000
DTEND;TZID=America/Toronto:20251004T173000
DTSTAMP:20260419T101700
CREATED:20210430T141232Z
LAST-MODIFIED:20210430T141232Z
UID:1888-1759595400-1759599000@paroisseskapparishes.ca
SUMMARY:Saturday Mass
DESCRIPTION:
URL:https://paroisseskapparishes.ca/stpatricks/event/sunday-mass-11/2025-10-04/
END:VEVENT
BEGIN:VEVENT
DTSTART;TZID=America/Toronto:20250927T163000
DTEND;TZID=America/Toronto:20250927T173000
DTSTAMP:20260419T101700
CREATED:20210430T141232Z
LAST-MODIFIED:20210430T141232Z
UID:1886-1758990600-1758994200@paroisseskapparishes.ca
SUMMARY:Saturday Mass
DESCRIPTION:
URL:https://paroisseskapparishes.ca/stpatricks/event/sunday-mass-11/2025-09-27/
END:VEVENT
END:VCALENDAR