BEGIN:VCALENDAR
VERSION:2.0
PRODID:-//St. Patrick&#039;s Parish - ECPv5.8.0//NONSGML v1.0//EN
CALSCALE:GREGORIAN
METHOD:PUBLISH
X-WR-CALNAME:St. Patrick&#039;s Parish
X-ORIGINAL-URL:https://paroisseskapparishes.ca/stpatricks
X-WR-CALDESC:Events for St. Patrick&#039;s Parish
BEGIN:VTIMEZONE
TZID:America/Toronto
BEGIN:DAYLIGHT
TZOFFSETFROM:-0500
TZOFFSETTO:-0400
TZNAME:EDT
DTSTART:20260308T070000
END:DAYLIGHT
BEGIN:STANDARD
TZOFFSETFROM:-0400
TZOFFSETTO:-0500
TZNAME:EST
DTSTART:20261101T060000
END:STANDARD
END:VTIMEZONE
BEGIN:VEVENT
DTSTART;TZID=America/Toronto:20260801T163000
DTEND;TZID=America/Toronto:20260801T173000
DTSTAMP:20260419T101700
CREATED:20210430T141232Z
LAST-MODIFIED:20210430T141232Z
UID:1976-1785601800-1785605400@paroisseskapparishes.ca
SUMMARY:Saturday Mass
DESCRIPTION:
URL:https://paroisseskapparishes.ca/stpatricks/event/sunday-mass-11/2026-08-01/
END:VEVENT
END:VCALENDAR