BEGIN:VCALENDAR
VERSION:2.0
PRODID:-//St. Patrick&#039;s Parish - ECPv5.8.0//NONSGML v1.0//EN
CALSCALE:GREGORIAN
METHOD:PUBLISH
X-WR-CALNAME:St. Patrick&#039;s Parish
X-ORIGINAL-URL:https://paroisseskapparishes.ca/stpatricks
X-WR-CALDESC:Events for St. Patrick&#039;s Parish
BEGIN:VTIMEZONE
TZID:America/Toronto
BEGIN:DAYLIGHT
TZOFFSETFROM:-0500
TZOFFSETTO:-0400
TZNAME:EDT
DTSTART:20260308T070000
END:DAYLIGHT
BEGIN:STANDARD
TZOFFSETFROM:-0400
TZOFFSETTO:-0500
TZNAME:EST
DTSTART:20261101T060000
END:STANDARD
END:VTIMEZONE
BEGIN:VEVENT
DTSTART;TZID=America/Toronto:20260419T093000
DTEND;TZID=America/Toronto:20260419T103000
DTSTAMP:20260419T083029
CREATED:20210430T141116Z
LAST-MODIFIED:20210430T141116Z
UID:1947-1776591000-1776594600@paroisseskapparishes.ca
SUMMARY:Sunday Mass
DESCRIPTION:
URL:https://paroisseskapparishes.ca/stpatricks/event/sunday-mass-10/2026-04-19/
END:VEVENT
BEGIN:VEVENT
DTSTART;TZID=America/Toronto:20260426T093000
DTEND;TZID=America/Toronto:20260426T103000
DTSTAMP:20260419T083029
CREATED:20210430T141116Z
LAST-MODIFIED:20210430T141116Z
UID:1949-1777195800-1777199400@paroisseskapparishes.ca
SUMMARY:Sunday Mass
DESCRIPTION:
URL:https://paroisseskapparishes.ca/stpatricks/event/sunday-mass-10/2026-04-26/
END:VEVENT
BEGIN:VEVENT
DTSTART;TZID=America/Toronto:20260503T093000
DTEND;TZID=America/Toronto:20260503T103000
DTSTAMP:20260419T083029
CREATED:20210430T141116Z
LAST-MODIFIED:20210430T141116Z
UID:1951-1777800600-1777804200@paroisseskapparishes.ca
SUMMARY:Sunday Mass
DESCRIPTION:
URL:https://paroisseskapparishes.ca/stpatricks/event/sunday-mass-10/2026-05-03/
END:VEVENT
BEGIN:VEVENT
DTSTART;TZID=America/Toronto:20260510T093000
DTEND;TZID=America/Toronto:20260510T103000
DTSTAMP:20260419T083029
CREATED:20210430T141116Z
LAST-MODIFIED:20210430T141116Z
UID:1953-1778405400-1778409000@paroisseskapparishes.ca
SUMMARY:Sunday Mass
DESCRIPTION:
URL:https://paroisseskapparishes.ca/stpatricks/event/sunday-mass-10/2026-05-10/
END:VEVENT
BEGIN:VEVENT
DTSTART;TZID=America/Toronto:20260517T093000
DTEND;TZID=America/Toronto:20260517T103000
DTSTAMP:20260419T083029
CREATED:20210430T141116Z
LAST-MODIFIED:20210430T141116Z
UID:1955-1779010200-1779013800@paroisseskapparishes.ca
SUMMARY:Sunday Mass
DESCRIPTION:
URL:https://paroisseskapparishes.ca/stpatricks/event/sunday-mass-10/2026-05-17/
END:VEVENT
BEGIN:VEVENT
DTSTART;TZID=America/Toronto:20260524T093000
DTEND;TZID=America/Toronto:20260524T103000
DTSTAMP:20260419T083029
CREATED:20210430T141116Z
LAST-MODIFIED:20210430T141116Z
UID:1957-1779615000-1779618600@paroisseskapparishes.ca
SUMMARY:Sunday Mass
DESCRIPTION:
URL:https://paroisseskapparishes.ca/stpatricks/event/sunday-mass-10/2026-05-24/
END:VEVENT
BEGIN:VEVENT
DTSTART;TZID=America/Toronto:20260531T093000
DTEND;TZID=America/Toronto:20260531T103000
DTSTAMP:20260419T083029
CREATED:20210430T141116Z
LAST-MODIFIED:20210430T141116Z
UID:1959-1780219800-1780223400@paroisseskapparishes.ca
SUMMARY:Sunday Mass
DESCRIPTION:
URL:https://paroisseskapparishes.ca/stpatricks/event/sunday-mass-10/2026-05-31/
END:VEVENT
BEGIN:VEVENT
DTSTART;TZID=America/Toronto:20260607T093000
DTEND;TZID=America/Toronto:20260607T103000
DTSTAMP:20260419T083029
CREATED:20210430T141116Z
LAST-MODIFIED:20210430T141116Z
UID:1961-1780824600-1780828200@paroisseskapparishes.ca
SUMMARY:Sunday Mass
DESCRIPTION:
URL:https://paroisseskapparishes.ca/stpatricks/event/sunday-mass-10/2026-06-07/
END:VEVENT
BEGIN:VEVENT
DTSTART;TZID=America/Toronto:20260614T093000
DTEND;TZID=America/Toronto:20260614T103000
DTSTAMP:20260419T083029
CREATED:20210430T141116Z
LAST-MODIFIED:20210430T141116Z
UID:1963-1781429400-1781433000@paroisseskapparishes.ca
SUMMARY:Sunday Mass
DESCRIPTION:
URL:https://paroisseskapparishes.ca/stpatricks/event/sunday-mass-10/2026-06-14/
END:VEVENT
BEGIN:VEVENT
DTSTART;TZID=America/Toronto:20260621T093000
DTEND;TZID=America/Toronto:20260621T103000
DTSTAMP:20260419T083029
CREATED:20210430T141116Z
LAST-MODIFIED:20210430T141116Z
UID:1965-1782034200-1782037800@paroisseskapparishes.ca
SUMMARY:Sunday Mass
DESCRIPTION:
URL:https://paroisseskapparishes.ca/stpatricks/event/sunday-mass-10/2026-06-21/
END:VEVENT
BEGIN:VEVENT
DTSTART;TZID=America/Toronto:20260628T093000
DTEND;TZID=America/Toronto:20260628T103000
DTSTAMP:20260419T083029
CREATED:20210430T141116Z
LAST-MODIFIED:20210430T141116Z
UID:1967-1782639000-1782642600@paroisseskapparishes.ca
SUMMARY:Sunday Mass
DESCRIPTION:
URL:https://paroisseskapparishes.ca/stpatricks/event/sunday-mass-10/2026-06-28/
END:VEVENT
BEGIN:VEVENT
DTSTART;TZID=America/Toronto:20260705T093000
DTEND;TZID=America/Toronto:20260705T103000
DTSTAMP:20260419T083029
CREATED:20210430T141116Z
LAST-MODIFIED:20210430T141116Z
UID:1969-1783243800-1783247400@paroisseskapparishes.ca
SUMMARY:Sunday Mass
DESCRIPTION:
URL:https://paroisseskapparishes.ca/stpatricks/event/sunday-mass-10/2026-07-05/
END:VEVENT
BEGIN:VEVENT
DTSTART;TZID=America/Toronto:20260712T093000
DTEND;TZID=America/Toronto:20260712T103000
DTSTAMP:20260419T083029
CREATED:20210430T141116Z
LAST-MODIFIED:20210430T141116Z
UID:1971-1783848600-1783852200@paroisseskapparishes.ca
SUMMARY:Sunday Mass
DESCRIPTION:
URL:https://paroisseskapparishes.ca/stpatricks/event/sunday-mass-10/2026-07-12/
END:VEVENT
BEGIN:VEVENT
DTSTART;TZID=America/Toronto:20260719T093000
DTEND;TZID=America/Toronto:20260719T103000
DTSTAMP:20260419T083029
CREATED:20210430T141116Z
LAST-MODIFIED:20210430T141116Z
UID:1973-1784453400-1784457000@paroisseskapparishes.ca
SUMMARY:Sunday Mass
DESCRIPTION:
URL:https://paroisseskapparishes.ca/stpatricks/event/sunday-mass-10/2026-07-19/
END:VEVENT
BEGIN:VEVENT
DTSTART;TZID=America/Toronto:20260726T093000
DTEND;TZID=America/Toronto:20260726T103000
DTSTAMP:20260419T083029
CREATED:20210430T141116Z
LAST-MODIFIED:20210430T141116Z
UID:1975-1785058200-1785061800@paroisseskapparishes.ca
SUMMARY:Sunday Mass
DESCRIPTION:
URL:https://paroisseskapparishes.ca/stpatricks/event/sunday-mass-10/2026-07-26/
END:VEVENT
BEGIN:VEVENT
DTSTART;TZID=America/Toronto:20260802T093000
DTEND;TZID=America/Toronto:20260802T103000
DTSTAMP:20260419T083029
CREATED:20210430T141116Z
LAST-MODIFIED:20210430T141116Z
UID:1977-1785663000-1785666600@paroisseskapparishes.ca
SUMMARY:Sunday Mass
DESCRIPTION:
URL:https://paroisseskapparishes.ca/stpatricks/event/sunday-mass-10/2026-08-02/
END:VEVENT
BEGIN:VEVENT
DTSTART;TZID=America/Toronto:20260809T093000
DTEND;TZID=America/Toronto:20260809T103000
DTSTAMP:20260419T083029
CREATED:20210430T141116Z
LAST-MODIFIED:20210430T141116Z
UID:1979-1786267800-1786271400@paroisseskapparishes.ca
SUMMARY:Sunday Mass
DESCRIPTION:
URL:https://paroisseskapparishes.ca/stpatricks/event/sunday-mass-10/2026-08-09/
END:VEVENT
BEGIN:VEVENT
DTSTART;TZID=America/Toronto:20260816T093000
DTEND;TZID=America/Toronto:20260816T103000
DTSTAMP:20260419T083029
CREATED:20210430T141116Z
LAST-MODIFIED:20210430T141116Z
UID:1981-1786872600-1786876200@paroisseskapparishes.ca
SUMMARY:Sunday Mass
DESCRIPTION:
URL:https://paroisseskapparishes.ca/stpatricks/event/sunday-mass-10/2026-08-16/
END:VEVENT
BEGIN:VEVENT
DTSTART;TZID=America/Toronto:20260823T093000
DTEND;TZID=America/Toronto:20260823T103000
DTSTAMP:20260419T083029
CREATED:20210430T141116Z
LAST-MODIFIED:20210430T141116Z
UID:1983-1787477400-1787481000@paroisseskapparishes.ca
SUMMARY:Sunday Mass
DESCRIPTION:
URL:https://paroisseskapparishes.ca/stpatricks/event/sunday-mass-10/2026-08-23/
END:VEVENT
BEGIN:VEVENT
DTSTART;TZID=America/Toronto:20260830T093000
DTEND;TZID=America/Toronto:20260830T103000
DTSTAMP:20260419T083029
CREATED:20210430T141116Z
LAST-MODIFIED:20210430T141116Z
UID:1985-1788082200-1788085800@paroisseskapparishes.ca
SUMMARY:Sunday Mass
DESCRIPTION:
URL:https://paroisseskapparishes.ca/stpatricks/event/sunday-mass-10/2026-08-30/
END:VEVENT
BEGIN:VEVENT
DTSTART;TZID=America/Toronto:20260906T093000
DTEND;TZID=America/Toronto:20260906T103000
DTSTAMP:20260419T083029
CREATED:20210430T141116Z
LAST-MODIFIED:20210430T141116Z
UID:1987-1788687000-1788690600@paroisseskapparishes.ca
SUMMARY:Sunday Mass
DESCRIPTION:
URL:https://paroisseskapparishes.ca/stpatricks/event/sunday-mass-10/2026-09-06/
END:VEVENT
BEGIN:VEVENT
DTSTART;TZID=America/Toronto:20260913T093000
DTEND;TZID=America/Toronto:20260913T103000
DTSTAMP:20260419T083029
CREATED:20210430T141116Z
LAST-MODIFIED:20210430T141116Z
UID:1989-1789291800-1789295400@paroisseskapparishes.ca
SUMMARY:Sunday Mass
DESCRIPTION:
URL:https://paroisseskapparishes.ca/stpatricks/event/sunday-mass-10/2026-09-13/
END:VEVENT
BEGIN:VEVENT
DTSTART;TZID=America/Toronto:20260920T093000
DTEND;TZID=America/Toronto:20260920T103000
DTSTAMP:20260419T083029
CREATED:20210430T141116Z
LAST-MODIFIED:20210430T141116Z
UID:1991-1789896600-1789900200@paroisseskapparishes.ca
SUMMARY:Sunday Mass
DESCRIPTION:
URL:https://paroisseskapparishes.ca/stpatricks/event/sunday-mass-10/2026-09-20/
END:VEVENT
BEGIN:VEVENT
DTSTART;TZID=America/Toronto:20260927T093000
DTEND;TZID=America/Toronto:20260927T103000
DTSTAMP:20260419T083029
CREATED:20210430T141116Z
LAST-MODIFIED:20210430T141116Z
UID:1993-1790501400-1790505000@paroisseskapparishes.ca
SUMMARY:Sunday Mass
DESCRIPTION:
URL:https://paroisseskapparishes.ca/stpatricks/event/sunday-mass-10/2026-09-27/
END:VEVENT
BEGIN:VEVENT
DTSTART;TZID=America/Toronto:20261004T093000
DTEND;TZID=America/Toronto:20261004T103000
DTSTAMP:20260419T083029
CREATED:20210430T141116Z
LAST-MODIFIED:20210430T141116Z
UID:1995-1791106200-1791109800@paroisseskapparishes.ca
SUMMARY:Sunday Mass
DESCRIPTION:
URL:https://paroisseskapparishes.ca/stpatricks/event/sunday-mass-10/2026-10-04/
END:VEVENT
BEGIN:VEVENT
DTSTART;TZID=America/Toronto:20261011T093000
DTEND;TZID=America/Toronto:20261011T103000
DTSTAMP:20260419T083029
CREATED:20210430T141116Z
LAST-MODIFIED:20210430T141116Z
UID:1997-1791711000-1791714600@paroisseskapparishes.ca
SUMMARY:Sunday Mass
DESCRIPTION:
URL:https://paroisseskapparishes.ca/stpatricks/event/sunday-mass-10/2026-10-11/
END:VEVENT
BEGIN:VEVENT
DTSTART;TZID=America/Toronto:20261018T093000
DTEND;TZID=America/Toronto:20261018T103000
DTSTAMP:20260419T083029
CREATED:20210430T141116Z
LAST-MODIFIED:20210430T141116Z
UID:1999-1792315800-1792319400@paroisseskapparishes.ca
SUMMARY:Sunday Mass
DESCRIPTION:
URL:https://paroisseskapparishes.ca/stpatricks/event/sunday-mass-10/2026-10-18/
END:VEVENT
BEGIN:VEVENT
DTSTART;TZID=America/Toronto:20261025T093000
DTEND;TZID=America/Toronto:20261025T103000
DTSTAMP:20260419T083029
CREATED:20210430T141116Z
LAST-MODIFIED:20210430T141116Z
UID:2001-1792920600-1792924200@paroisseskapparishes.ca
SUMMARY:Sunday Mass
DESCRIPTION:
URL:https://paroisseskapparishes.ca/stpatricks/event/sunday-mass-10/2026-10-25/
END:VEVENT
BEGIN:VEVENT
DTSTART;TZID=America/Toronto:20261101T093000
DTEND;TZID=America/Toronto:20261101T103000
DTSTAMP:20260419T083029
CREATED:20210430T141116Z
LAST-MODIFIED:20210430T141116Z
UID:2003-1793525400-1793529000@paroisseskapparishes.ca
SUMMARY:Sunday Mass
DESCRIPTION:
URL:https://paroisseskapparishes.ca/stpatricks/event/sunday-mass-10/2026-11-01/
END:VEVENT
BEGIN:VEVENT
DTSTART;TZID=America/Toronto:20261108T093000
DTEND;TZID=America/Toronto:20261108T103000
DTSTAMP:20260419T083029
CREATED:20210430T141116Z
LAST-MODIFIED:20210430T141116Z
UID:2005-1794130200-1794133800@paroisseskapparishes.ca
SUMMARY:Sunday Mass
DESCRIPTION:
URL:https://paroisseskapparishes.ca/stpatricks/event/sunday-mass-10/2026-11-08/
END:VEVENT
END:VCALENDAR